BEGIN:VCALENDAR
VERSION:2.0
PRODID:-//Tukios.com/
BEGIN:VEVENT
UID:23762a96-9d7c-4bc3-bbc3-0cf9b9c6b901@www.toothmanfuneralhome.com
DTSTAMP:20260423T215249Z
DTSTART:20260509T191500Z
DTEND:20260509T201500Z
SUMMARY:Funeral Service
DESCRIPTION:
URL:https://www.toothmanfuneralhome.com/obituaries/velma-crumpler
LOCATION:Toothman Funeral Home 141 S Marietta St  St Clairsville OH 43950
GEO:40.0771173;-80.901455
END:VEVENT
END:VCALENDAR