BEGIN:VCALENDAR
VERSION:2.0
PRODID:-//Tukios.com/
BEGIN:VEVENT
UID:3ff87910-0ccc-4ae4-ae40-a61e7ae74ba9@www.toothmanfuneralhome.com
DTSTAMP:20260423T215114Z
DTSTART:20260509T170000Z
DTEND:20260509T191500Z
SUMMARY:Visitation
DESCRIPTION:
URL:https://www.toothmanfuneralhome.com/obituaries/velma-crumpler
LOCATION:Toothman Funeral Home 141 S Marietta St  St Clairsville OH 43950
GEO:40.0771173;-80.901455
END:VEVENT
END:VCALENDAR