BEGIN:VCALENDAR
VERSION:2.0
PRODID:-//Tukios.com/
BEGIN:VEVENT
UID:25dcf284-ce20-4a82-9b2e-ca41333baa5a@www.toothmanfuneralhome.com
DTSTAMP:20260424T130806Z
DTSTART:20260428T150000Z
DTEND:20260428T160000Z
SUMMARY:Funeral Service
DESCRIPTION:
URL:https://www.toothmanfuneralhome.com/obituaries/lori-fannin
LOCATION: 141 S Marietta St  St Clairsville OH 43950
GEO:40.0771173;-80.901455
END:VEVENT
END:VCALENDAR