BEGIN:VCALENDAR
VERSION:2.0
PRODID:-//Tukios.com/
BEGIN:VEVENT
UID:06bccac5-3909-49d8-bcea-774ef5380ce7@www.toothmanfuneralhome.com
DTSTAMP:20260424T010050Z
DTSTART:20260427T200000Z
DTEND:20260428T000000Z
SUMMARY:Visitation
DESCRIPTION:
URL:https://www.toothmanfuneralhome.com/obituaries/lori-fannin
LOCATION: 141 S Marietta St  St Clairsville OH 43950
GEO:40.0771173;-80.901455
END:VEVENT
END:VCALENDAR