BEGIN:VCALENDAR
VERSION:2.0
PRODID:-//Tukios.com/
BEGIN:VEVENT
UID:0fb58484-ff2a-465e-b9cf-a6a605482a40@www.toothmanfuneralhome.com
DTSTAMP:20260424T211659Z
DTSTART:20260428T180000Z
DTEND:20260428T200000Z
SUMMARY:Visitation
DESCRIPTION:
URL:https://www.toothmanfuneralhome.com/obituaries/karen-cupryk
LOCATION:Toothman Funeral Home 141 S Marietta St  St Clairsville OH 43950
GEO:40.0771173;-80.901455
END:VEVENT
END:VCALENDAR