BEGIN:VCALENDAR
VERSION:2.0
PRODID:-//Tukios.com/
BEGIN:VEVENT
UID:689167fb-b645-44cc-aa2e-e632340d89da@www.toothmanfuneralhome.com
DTSTAMP:20260424T211519Z
DTSTART:20260428T220000Z
DTEND:20260429T000000Z
SUMMARY:Visitation
DESCRIPTION:
URL:https://www.toothmanfuneralhome.com/obituaries/karen-cupryk
LOCATION: 141 S Marietta St  St Clairsville OH 43950
GEO:40.0771173;-80.901455
END:VEVENT
END:VCALENDAR