BEGIN:VCALENDAR
VERSION:2.0
PRODID:-//Tukios.com/
BEGIN:VEVENT
UID:3848e800-2c13-46bc-8dc8-db9ea44f2253@www.toothmanfuneralhome.com
DTSTAMP:20260420T030820Z
DTSTART:20260426T190000Z
DTEND:20260426T200000Z
SUMMARY:Full Military Honors
DESCRIPTION:
URL:https://www.toothmanfuneralhome.com/obituaries/donald-slim-porter-myers
LOCATION: 141 S Marietta St  St Clairsville OH 43950
GEO:40.0771173;-80.901455
END:VEVENT
END:VCALENDAR