BEGIN:VCALENDAR
VERSION:2.0
PRODID:-//Tukios.com/
BEGIN:VEVENT
UID:e8dad3c2-d98f-49d3-bd44-573370b186a8@www.toothmanfuneralhome.com
DTSTAMP:20260420T031127Z
DTSTART:20260426T180000Z
DTEND:20260426T190000Z
SUMMARY:Visitation
DESCRIPTION:
URL:https://www.toothmanfuneralhome.com/obituaries/donald-slim-porter-myers
LOCATION:Toothman Funeral Home 141 S Marietta St  St Clairsville OH 43950
GEO:40.0771173;-80.901455
END:VEVENT
END:VCALENDAR