BEGIN:VCALENDAR
VERSION:2.0
PRODID:-//Tukios.com/
BEGIN:VEVENT
UID:bfa69973-b458-44a1-8645-c96c74d0bdf2@www.toothmanfuneralhome.com
DTSTAMP:20260421T184800Z
DTSTART:20260501T221500Z
DTEND:20260501T231500Z
SUMMARY:Funeral Service
DESCRIPTION:
URL:https://www.toothmanfuneralhome.com/obituaries/diane-tazar
LOCATION:Toothman Funeral Home 141 S Marietta St  St Clairsville OH 43950
GEO:40.0771173;-80.901455
END:VEVENT
END:VCALENDAR