BEGIN:VCALENDAR
VERSION:2.0
PRODID:-//Tukios.com/
BEGIN:VEVENT
UID:51d06263-491d-4b18-b4bf-81586395d973@www.toothmanfuneralhome.com
DTSTAMP:20260421T185022Z
DTSTART:20260501T190000Z
DTEND:20260501T221500Z
SUMMARY:Visitation
DESCRIPTION:
URL:https://www.toothmanfuneralhome.com/obituaries/diane-tazar
LOCATION:Toothman Funeral Home 141 S Marietta St  St Clairsville OH 43950
GEO:40.0771173;-80.901455
END:VEVENT
END:VCALENDAR